BEGIN:VCALENDAR
VERSION:2.0
PRODID:-//Blackbutt Hotel - ECPv4.5.13//NONSGML v1.0//EN
CALSCALE:GREGORIAN
METHOD:PUBLISH
X-WR-CALNAME:Blackbutt Hotel
X-ORIGINAL-URL:https://blackbutthotel.com.au
X-WR-CALDESC:Events for Blackbutt Hotel
BEGIN:VEVENT
DTSTART;TZID=UTC+10:20200116T173000
DTEND;TZID=UTC+10:20200116T203000
DTSTAMP:20200228T045050
CREATED:20170913T101433Z
LAST-MODIFIED:20170913T101433Z
UID:3378-1579195800-1579206600@blackbutthotel.com.au
SUMMARY:1/2 kilo chicken parmy
DESCRIPTION: \n
URL:https://blackbutthotel.com.au/event/12-kilo-chicken-parmy/2020-01-16/
CATEGORIES:Specials
END:VEVENT
BEGIN:VEVENT
DTSTART;TZID=UTC+10:20200116T180000
DTEND;TZID=UTC+10:20200116T190000
DTSTAMP:20200228T045050
CREATED:20170913T101651Z
LAST-MODIFIED:20170913T101651Z
UID:3379-1579197600-1579201200@blackbutthotel.com.au
SUMMARY:Members Draw
DESCRIPTION:Join us for the members draw every Thursday! 2 x draws between 6pm and 7pm \n
URL:https://blackbutthotel.com.au/event/members-draw/2020-01-16/
CATEGORIES:Members' Draw
END:VEVENT
END:VCALENDAR