BEGIN:VCALENDAR
VERSION:2.0
PRODID:-//Blackbutt Hotel - ECPv4.5.13//NONSGML v1.0//EN
CALSCALE:GREGORIAN
METHOD:PUBLISH
X-WR-CALNAME:Blackbutt Hotel
X-ORIGINAL-URL:https://blackbutthotel.com.au
X-WR-CALDESC:Events for Blackbutt Hotel
BEGIN:VEVENT
DTSTART;TZID=UTC+10:20200114T173000
DTEND;TZID=UTC+10:20200114T203000
DTSTAMP:20200228T044733
CREATED:20170913T104928Z
LAST-MODIFIED:20170913T104928Z
UID:3370-1579023000-1579033800@blackbutthotel.com.au
SUMMARY:$15 triple cutlet Tuesday
DESCRIPTION: \n
URL:https://blackbutthotel.com.au/event/15-triple-cutlet-tuesday/2020-01-14/
CATEGORIES:Specials
END:VEVENT
END:VCALENDAR