BEGIN:VCALENDAR
VERSION:2.0
PRODID:-//Blackbutt Hotel - ECPv4.5.13//NONSGML v1.0//EN
CALSCALE:GREGORIAN
METHOD:PUBLISH
X-WR-CALNAME:Blackbutt Hotel
X-ORIGINAL-URL:https://blackbutthotel.com.au
X-WR-CALDESC:Events for Blackbutt Hotel
BEGIN:VEVENT
DTSTART;TZID=UTC+10:20200109T173000
DTEND;TZID=UTC+10:20200109T203000
DTSTAMP:20200228T043429
CREATED:20170913T101433Z
LAST-MODIFIED:20170913T101433Z
UID:3357-1578591000-1578601800@blackbutthotel.com.au
SUMMARY:1/2 kilo chicken parmy
DESCRIPTION: \n
URL:https://blackbutthotel.com.au/event/12-kilo-chicken-parmy/2020-01-09/
CATEGORIES:Specials
END:VEVENT
BEGIN:VEVENT
DTSTART;TZID=UTC+10:20200109T180000
DTEND;TZID=UTC+10:20200109T190000
DTSTAMP:20200228T043429
CREATED:20170913T101651Z
LAST-MODIFIED:20170913T101651Z
UID:3358-1578592800-1578596400@blackbutthotel.com.au
SUMMARY:Members Draw
DESCRIPTION:Join us for the members draw every Thursday! 2 x draws between 6pm and 7pm \n
URL:https://blackbutthotel.com.au/event/members-draw/2020-01-09/
CATEGORIES:Members' Draw
END:VEVENT
END:VCALENDAR