BEGIN:VCALENDAR
VERSION:2.0
PRODID:-//Blackbutt Hotel - ECPv4.5.13//NONSGML v1.0//EN
CALSCALE:GREGORIAN
METHOD:PUBLISH
X-WR-CALNAME:Blackbutt Hotel
X-ORIGINAL-URL:https://blackbutthotel.com.au
X-WR-CALDESC:Events for Blackbutt Hotel
BEGIN:VEVENT
DTSTART;TZID=UTC+10:20200105T180000
DTEND;TZID=UTC+10:20200105T200000
DTSTAMP:20200228T042607
CREATED:20170913T104442Z
LAST-MODIFIED:20170913T104442Z
UID:3345-1578247200-1578254400@blackbutthotel.com.au
SUMMARY:Kids eat FREE
DESCRIPTION: \n
URL:https://blackbutthotel.com.au/event/kids-eat-free/2020-01-05/
CATEGORIES:Specials
END:VEVENT
END:VCALENDAR