BEGIN:VCALENDAR
VERSION:2.0
PRODID:-//Blackbutt Hotel - ECPv4.5.13//NONSGML v1.0//EN
CALSCALE:GREGORIAN
METHOD:PUBLISH
X-WR-CALNAME:Blackbutt Hotel
X-ORIGINAL-URL:https://blackbutthotel.com.au
X-WR-CALDESC:Events for Blackbutt Hotel
BEGIN:VEVENT
DTSTART;TZID=UTC+10:20200104T173000
DTEND;TZID=UTC+10:20200104T210000
DTSTAMP:20200228T042252
CREATED:20170913T103856Z
LAST-MODIFIED:20170913T103856Z
UID:3344-1578159000-1578171600@blackbutthotel.com.au
SUMMARY:$15 1/2 kilo snitty & chips
DESCRIPTION: \n
URL:https://blackbutthotel.com.au/event/15-12-kilo-snitty-chips/2020-01-04/
CATEGORIES:Specials
END:VEVENT
BEGIN:VEVENT
DTSTART;TZID=UTC+10:20200104T203000
DTEND;TZID=UTC+10:20200104T233000
DTSTAMP:20200228T042252
CREATED:20190409T001542Z
LAST-MODIFIED:20190409T001542Z
UID:6335-1578169800-1578180600@blackbutthotel.com.au
SUMMARY:Live Music:
DESCRIPTION:
URL:https://blackbutthotel.com.au/event/2020-01-04/
END:VEVENT
BEGIN:VEVENT
DTSTART;TZID=UTC+10:20200104T203000
DTEND;TZID=UTC+10:20200104T233000
DTSTAMP:20200228T042252
CREATED:20190409T001542Z
LAST-MODIFIED:20190409T015248Z
UID:6367-1578169800-1578180600@blackbutthotel.com.au
SUMMARY:Live Music:
DESCRIPTION:
URL:https://blackbutthotel.com.au/event/live-music-2019-04-13-2019-05-03/2020-01-04/
END:VEVENT
END:VCALENDAR