BEGIN:VCALENDAR
VERSION:2.0
PRODID:-//Blackbutt Hotel - ECPv4.5.13//NONSGML v1.0//EN
CALSCALE:GREGORIAN
METHOD:PUBLISH
X-WR-CALNAME:Blackbutt Hotel
X-ORIGINAL-URL:https://blackbutthotel.com.au
X-WR-CALDESC:Events for Blackbutt Hotel
BEGIN:VEVENT
DTSTART;TZID=UTC+10:20200103T173000
DTEND;TZID=UTC+10:20200103T210000
DTSTAMP:20200228T042002
CREATED:20170913T102257Z
LAST-MODIFIED:20170913T102257Z
UID:3343-1578072600-1578085200@blackbutthotel.com.au
SUMMARY:$10 seafood combo
DESCRIPTION: \n
URL:https://blackbutthotel.com.au/event/10-seafood-combo/2020-01-03/
CATEGORIES:Specials
END:VEVENT
BEGIN:VEVENT
DTSTART;TZID=UTC+10:20200103T180000
DTEND;TZID=UTC+10:20200103T190000
DTSTAMP:20200228T042002
CREATED:20170913T101931Z
LAST-MODIFIED:20170913T101931Z
UID:3340-1578074400-1578078000@blackbutthotel.com.au
SUMMARY:Members Draw
DESCRIPTION:Join us for the members draw! 2 x draws between 6pm and 7pm. \n
URL:https://blackbutthotel.com.au/event/members-draw-2/2020-01-03/
CATEGORIES:Members' Draw
END:VEVENT
BEGIN:VEVENT
DTSTART;TZID=UTC+10:20200103T180000
DTEND;TZID=UTC+10:20200103T190000
DTSTAMP:20200228T042002
CREATED:20170913T101931Z
LAST-MODIFIED:20170913T101931Z
UID:3342-1578074400-1578078000@blackbutthotel.com.au
SUMMARY:Members Draw
DESCRIPTION:Join us for the members draw! 2 x draws between 6pm and 7pm. \n
URL:https://blackbutthotel.com.au/event/members-draw-2/2020-01-03/
CATEGORIES:Members' Draw
END:VEVENT
BEGIN:VEVENT
DTSTART;TZID=UTC+10:20200103T203000
DTEND;TZID=UTC+10:20200103T233000
DTSTAMP:20200228T042002
CREATED:20190409T001542Z
LAST-MODIFIED:20190409T015248Z
UID:6209-1578083400-1578094200@blackbutthotel.com.au
SUMMARY:Live Music:
DESCRIPTION:
URL:https://blackbutthotel.com.au/event/live-music-2019-04-13-2019-05-03/2020-01-03/
END:VEVENT
END:VCALENDAR