BEGIN:VCALENDAR
VERSION:2.0
PRODID:-//Blackbutt Hotel - ECPv4.5.13//NONSGML v1.0//EN
CALSCALE:GREGORIAN
METHOD:PUBLISH
X-WR-CALNAME:Blackbutt Hotel
X-ORIGINAL-URL:http://blackbutthotel.com.au
X-WR-CALDESC:Events for Blackbutt Hotel
BEGIN:VEVENT
DTSTART;TZID=UTC+10:20190123T190000
DTEND;TZID=UTC+10:20190123T210000
DTSTAMP:20190228T213155
CREATED:20170913T101214Z
LAST-MODIFIED:20171027T005426Z
UID:537-1548270000-1548277200@blackbutthotel.com.au
SUMMARY:Trivia
DESCRIPTION:
URL:http://blackbutthotel.com.au/event/trivia/2019-01-23/
CATEGORIES:Specials
END:VEVENT
END:VCALENDAR