BEGIN:VCALENDAR
VERSION:2.0
PRODID:-//Blackbutt Hotel - ECPv4.5.13//NONSGML v1.0//EN
CALSCALE:GREGORIAN
METHOD:PUBLISH
X-WR-CALNAME:Blackbutt Hotel
X-ORIGINAL-URL:http://blackbutthotel.com.au
X-WR-CALDESC:Events for Blackbutt Hotel
BEGIN:VEVENT
DTSTART;TZID=UTC+10:20190115T173000
DTEND;TZID=UTC+10:20190115T203000
DTSTAMP:20190228T212047
CREATED:20170913T104928Z
LAST-MODIFIED:20171026T220259Z
UID:1521-1547573400-1547584200@blackbutthotel.com.au
SUMMARY:$15 triple cutlet Tuesday
DESCRIPTION: \n
URL:http://blackbutthotel.com.au/event/15-triple-cutlet-tuesday/2019-01-15/
CATEGORIES:Specials
END:VEVENT
END:VCALENDAR