BEGIN:VCALENDAR
VERSION:2.0
PRODID:-//Blackbutt Hotel - ECPv4.5.13//NONSGML v1.0//EN
CALSCALE:GREGORIAN
METHOD:PUBLISH
X-WR-CALNAME:Blackbutt Hotel
X-ORIGINAL-URL:http://blackbutthotel.com.au
X-WR-CALDESC:Events for Blackbutt Hotel
BEGIN:VEVENT
DTSTART;TZID=UTC+10:20190110T173000
DTEND;TZID=UTC+10:20190110T203000
DTSTAMP:20190228T211300
CREATED:20170913T101433Z
LAST-MODIFIED:20171027T005408Z
UID:642-1547141400-1547152200@blackbutthotel.com.au
SUMMARY:1/2 kilo chicken parmy
DESCRIPTION: \n
URL:http://blackbutthotel.com.au/event/12-kilo-chicken-parmy/2019-01-10/
CATEGORIES:Specials
END:VEVENT
BEGIN:VEVENT
DTSTART;TZID=UTC+10:20190110T180000
DTEND;TZID=UTC+10:20190110T190000
DTSTAMP:20190228T211300
CREATED:20170913T101651Z
LAST-MODIFIED:20171027T003626Z
UID:748-1547143200-1547146800@blackbutthotel.com.au
SUMMARY:Members Draw
DESCRIPTION:Join us for the members draw every Thursday! 2 x draws between 6pm and 7pm \n
URL:http://blackbutthotel.com.au/event/members-draw/2019-01-10/
CATEGORIES:Members' Draw
END:VEVENT
END:VCALENDAR